BEGIN:VCALENDAR
VERSION:2.0
PRODID:icalendar-ruby
CALSCALE:GREGORIAN
METHOD:PUBLISH
BEGIN:VEVENT
DTSTAMP:20260422T013119Z
UID:5-1545421@onealroadbaptistchurch.com
DTSTART:20261101T170000Z
DTEND:20261101T180000Z
CLASS:PUBLIC
CREATED:20260421T180018
DESCRIPTION:Sunday Worship
LAST-MODIFIED:20260421T180018
LOCATION:
SUMMARY:Sunday Worship
URL;VALUE=URI:https://www.onealroadbaptistchurch.com/events/sunday-worship/
 2026-11-01
END:VEVENT
END:VCALENDAR
