BEGIN:VCALENDAR
VERSION:2.0
PRODID:icalendar-ruby
CALSCALE:GREGORIAN
METHOD:PUBLISH
BEGIN:VEVENT
DTSTAMP:20260421T172439Z
UID:5-1544278@onealroadbaptistchurch.com
DTSTART:20260920T160000Z
DTEND:20260920T170000Z
CLASS:PUBLIC
CREATED:20260421T100540
DESCRIPTION:Sunday Worship
LAST-MODIFIED:20260421T100540
LOCATION:
SUMMARY:Sunday Worship
URL;VALUE=URI:https://www.onealroadbaptistchurch.com/events/sunday-worship/
 2026-09-20
END:VEVENT
END:VCALENDAR
